BEGIN:VCALENDAR
VERSION:2.0
PRODID:-//Tukios.com/
BEGIN:VEVENT
UID:43bda609-cee4-4d23-839f-eadb61227eab@www.stricklandfh.com
DTSTAMP:20260423T044146Z
DTSTART:20260425T160000Z
DTEND:20260425T180000Z
SUMMARY:Visitation
DESCRIPTION:
URL:https://www.stricklandfh.com/obituaries/jo-turner
LOCATION:Strickland Funeral Home of Hartwell 305 Cleveland Ave  Hartwell 
	GA 30643
GEO:34.3486335;-82.9259862
END:VEVENT
END:VCALENDAR