BEGIN:VCALENDAR
VERSION:2.0
PRODID:-//Tukios.com/
BEGIN:VEVENT
UID:3af4e94e-2075-4fd4-b0f7-a59aab9173cd@www.stricklandfh.com
DTSTAMP:20260423T043340Z
DTSTART:20260425T180000Z
DTEND:20260425T190000Z
SUMMARY:Memorial Service
DESCRIPTION:
URL:https://www.stricklandfh.com/obituaries/jo-turner
LOCATION:Strickland Funeral Home of Hartwell 305 Cleveland Ave  Hartwell 
	GA 30643
GEO:34.3486335;-82.9259862
END:VEVENT
END:VCALENDAR