BEGIN:VCALENDAR
VERSION:2.0
PRODID:-//Tukios.com/
BEGIN:VEVENT
UID:0e0b00e9-9b01-4de8-afb0-883923e616de@www.stricklandfh.com
DTSTAMP:20260424T230553Z
DTSTART:20260515T140000Z
DTEND:20260515T150000Z
SUMMARY:Visitation
DESCRIPTION:
URL:https://www.stricklandfh.com/obituaries/vencie-boatwright
LOCATION:Liberty Baptist Church 5262 Royston Highway  Canon GA 30520
GEO:34.3053896;-83.0034968
END:VEVENT
END:VCALENDAR