BEGIN:VCALENDAR
VERSION:2.0
PRODID:-//Tukios.com/
BEGIN:VEVENT
UID:a06dda4b-e5f6-4bea-ac4a-6033d45e676c@www.stricklandfh.com
DTSTAMP:20260424T012049Z
DTSTART:20260515T150000Z
DTEND:20260515T160000Z
SUMMARY:Memorial Service
DESCRIPTION:
URL:https://www.stricklandfh.com/obituaries/vincie-boatwright
LOCATION:Liberty Baptist Church 5262 Royston Highway  Canon GA 30520
GEO:34.3053896;-83.0034968
END:VEVENT
END:VCALENDAR