BEGIN:VCALENDAR
VERSION:2.0
PRODID:-//Tukios.com/
BEGIN:VEVENT
UID:2bb4149e-5329-48fe-b5f7-2773d44476d3@www.stricklandfh.com
DTSTAMP:20260424T011548Z
DTSTART:20260518T170000Z
DTEND:20260518T180000Z
SUMMARY:Graveside Service
DESCRIPTION:
URL:https://www.stricklandfh.com/obituaries/vincie-boatwright
LOCATION:Sarasota National Cemetery 9810 State Rd 72  Sarasota FL 34241
GEO:27.2476943;-82.3817329
END:VEVENT
END:VCALENDAR